BEGIN:VCALENDAR
VERSION:2.0
PRODID:-//Viva Fresh Edge - ECPv6.15.20//NONSGML v1.0//EN
CALSCALE:GREGORIAN
METHOD:PUBLISH
X-WR-CALNAME:Viva Fresh Edge
X-ORIGINAL-URL:https://vivafreshedge.com
X-WR-CALDESC:Events for Viva Fresh Edge
REFRESH-INTERVAL;VALUE=DURATION:PT1H
X-Robots-Tag:noindex
X-PUBLISHED-TTL:PT1H
BEGIN:VTIMEZONE
TZID:UTC
BEGIN:STANDARD
TZOFFSETFROM:+0000
TZOFFSETTO:+0000
TZNAME:UTC
DTSTART:20240101T000000
END:STANDARD
END:VTIMEZONE
BEGIN:VEVENT
DTSTART;TZID=UTC:20250410T060000
DTEND;TZID=UTC:20250412T230000
DTSTAMP:20260425T144507
CREATED:20250401T191819Z
LAST-MODIFIED:20250409T155734Z
UID:1863-1744264800-1744498800@vivafreshedge.com
SUMMARY:Viva Fresh Expo 2025
DESCRIPTION:Saturday\, April 12th \n6:30am – 3:30pm (Expo Registration open)\nLocation: L4 Pre-Function Area \n7:30am-8:30am EDGE Breakfast (including a light breakfast)\nLocation: Scot Cotton Room – L2  \n10:30am – 4:00pm Exhibit Hall Open\nLocation: Texas Grand Ballroom – L4 \n*If you are a student\, mentor\, or advisor please fill out the survey sent after the show!
URL:https://vivafreshedge.com/event/viva-fresh-expo-2025/
LOCATION:Marriott Marquis\, 1777 Walker St\, Houston\, TX\, 77010\, United States
CATEGORIES:Expo
ATTACH;FMTTYPE=image/jpeg:https://vivafreshedge.com/wp-content/uploads/2025/04/Viva-Fresh-Expo-2025.jpg
END:VEVENT
BEGIN:VEVENT
DTSTART;TZID=UTC:20260416T000000
DTEND;TZID=UTC:20260418T160000
DTSTAMP:20260425T144507
CREATED:20260319T102417Z
LAST-MODIFIED:20260403T185655Z
UID:1958-1776297600-1776528000@vivafreshedge.com
SUMMARY:Viva Fresh Expo 2026
DESCRIPTION:Thursday\, April 16th \n6:30am – 3:30pm (Expo Registration open)\nLocation: Registration Area \n7:30am-8:00am EDGE Speed Networking Breakfast (including a light breakfast)\nLocation: Cibolo Canyon 3-4 \n8:00am-8:30am – Speed meeting \n10:30am – 4:00pm Viva Fresh 2026 Expo Opening\nLocation: Nelson Wolff Exhibit Ballroom
URL:https://vivafreshedge.com/event/viva-fresh-expo-2026/
LOCATION:JW Marriott San Antonio Hill Country Resort & Spa\, 23808 Resort Pkwy\, San Antonio\, TX\, 78261\, United States
CATEGORIES:Expo
ATTACH;FMTTYPE=image/jpeg:https://vivafreshedge.com/wp-content/uploads/2026/03/viva-26.jpg
END:VEVENT
END:VCALENDAR